BEGIN:VCALENDAR
VERSION:2.0
PRODID:-//Astronza - Lettura Tema Natale e Cabaret astrologici - ECPv6.15.20//NONSGML v1.0//EN
CALSCALE:GREGORIAN
METHOD:PUBLISH
X-ORIGINAL-URL:https://astronza.net
X-WR-CALDESC:Eventi per Astronza - Lettura Tema Natale e Cabaret astrologici
REFRESH-INTERVAL;VALUE=DURATION:PT1H
X-Robots-Tag:noindex
X-PUBLISHED-TTL:PT1H
BEGIN:VTIMEZONE
TZID:Europe/Rome
BEGIN:DAYLIGHT
TZOFFSETFROM:+0100
TZOFFSETTO:+0200
TZNAME:CEST
DTSTART:20210328T010000
END:DAYLIGHT
BEGIN:STANDARD
TZOFFSETFROM:+0200
TZOFFSETTO:+0100
TZNAME:CET
DTSTART:20211031T010000
END:STANDARD
BEGIN:DAYLIGHT
TZOFFSETFROM:+0100
TZOFFSETTO:+0200
TZNAME:CEST
DTSTART:20220327T010000
END:DAYLIGHT
BEGIN:STANDARD
TZOFFSETFROM:+0200
TZOFFSETTO:+0100
TZNAME:CET
DTSTART:20221030T010000
END:STANDARD
BEGIN:DAYLIGHT
TZOFFSETFROM:+0100
TZOFFSETTO:+0200
TZNAME:CEST
DTSTART:20230326T010000
END:DAYLIGHT
BEGIN:STANDARD
TZOFFSETFROM:+0200
TZOFFSETTO:+0100
TZNAME:CET
DTSTART:20231029T010000
END:STANDARD
BEGIN:DAYLIGHT
TZOFFSETFROM:+0100
TZOFFSETTO:+0200
TZNAME:CEST
DTSTART:20240331T010000
END:DAYLIGHT
BEGIN:STANDARD
TZOFFSETFROM:+0200
TZOFFSETTO:+0100
TZNAME:CET
DTSTART:20241027T010000
END:STANDARD
BEGIN:DAYLIGHT
TZOFFSETFROM:+0100
TZOFFSETTO:+0200
TZNAME:CEST
DTSTART:20250330T010000
END:DAYLIGHT
BEGIN:STANDARD
TZOFFSETFROM:+0200
TZOFFSETTO:+0100
TZNAME:CET
DTSTART:20251026T010000
END:STANDARD
END:VTIMEZONE
BEGIN:VEVENT
DTSTART;TZID=Europe/Rome:20231231T183000
DTEND;TZID=Europe/Rome:20240101T030000
DTSTAMP:20260422T133116
CREATED:20231212T180847Z
LAST-MODIFIED:20240722T172212Z
UID:12927-1704047400-1704078000@astronza.net
SUMMARY:Capodanno 2024 @ Bazar Taverna Curdo Meticcia
DESCRIPTION:APERITRASH DI FINE ANNO DAL CREPUSCOLO AL BRINDISI✯✮✯✮ VERSO UNO STELLARE 2024 ✮✯✮✯ 📣 Ecco il capodanno che aspettavi! ✨ SALA DA SBALLO ✨ BANCHETTO E TRIONFO ✨ TRININI E CIN-CIN ✨ VARIETA’ ED INTRATTENIMENTO ✨ VARIEGATA ED ECLETTICA 🎧 Apertitivo Danzereccio | Dalle 18.30 direttamente dalla suggestiva Terrazza Casilina si aprono le danze sulle note dei migliori successi degli anni ’60/’70/’80/’90 con Sailor Trash DJA 🌶️ Buffet All You Can Eat 30€ | Per tutto il 2023\, banchetto trionfante e inesauribile per soddisfare ogni desiderio gastronomico con le deliziose specialità curiose. (bevande escluse\, brindisi e lenticchiata inclusi) 🔮 Cabaret Astrologico di Astronza | Vuoi conoscere il destino del tuo anno? In primissima serata! Con gli influssi dei pianeti\, un tocco di sfiga e tanta ironia\, il cabaret astrologico di Astronza è pronto per farti sorridere in questa speciale atmosfera di San Silvestro. 🪩 Ritorno sul Palco della Terrazza | Sai cantare? Sai ballare? Sai cantare\, ballare e parlare? Sulla Terrazza Casilina\, esperienze indimenticabili con la colonna sonora di Sailor Trash DJA 🍾 Brindisi e Trionfo | Brindisi con Spumante Nazionalpopolare e Trikkebballakke per salutare il passaggio del trenino giallo e dare il benvenuto al radioso 2024!
URL:https://astronza.net/eventi/capodanno-2024/
LOCATION:Bazar – Taverna Curdo Meticcia\, Via Casilina\, 609\, Roma\, Torpignattara\, 00177\, Italia
CATEGORIES:capodanno
ATTACH;FMTTYPE=image/jpeg:https://astronza.net/wp-content/uploads/2023/12/capodanno-2024-astronza.jpg
ORGANIZER;CN="Bazar &#8211%3B Taverna Curdo Meticcia":MAILTO:curdcurdguaglio@gmail.com
END:VEVENT
BEGIN:VEVENT
DTSTART;TZID=Europe/Rome:20221230T080000
DTEND;TZID=Europe/Rome:20230102T170000
DTSTAMP:20260422T133116
CREATED:20221206T183642Z
LAST-MODIFIED:20240722T172213Z
UID:11693-1672387200-1672678800@astronza.net
SUMMARY:Capodanno 2023 per sole donne a Milano con GirlVillage
DESCRIPTION:Dal 30 dicembre 2022 al 2 gennaio 2023 un capodanno all’insegna della presa bene con il cabaret astrologico di Astronza\nPosti limitati. \nBenvenuto 2023! Un anno che parte in sordina per poi traghettarci verso un profondo cambiamento. Un grande giramento di pianeti che coinvolge tutti i segni zodiacali. Giove sarà in transito in Ariete per poi passare a maggio in Toro e rimanerci un anno intero. Saturno a marzo si trasferisce nei Pesci azzerando i confini materiali e conosciuti. Altro passaggio epocale\, ci sarà Plutone che si affaccerà nel segno dell’Aquario. Ma come protagonista abbiamo anche Venere con il suo transito speciale nel segno del Leone. Un anno sicuramente intenso: ne parleremo insieme il 30 dicembre\, segno per segno\, per vedere l’effetto che fa! \nCi troveremo in una piccola oasi nascosta nel cuore dei Navigli\, precisamente nei luoghi che furono dello storico #Rhabar\, in cui potrai sentirti a casa lontano da casa\, in uno spazio fluido dove la natura abbraccia edifici antichi e moderni\, in una posizione centralissima ma defilata\, facilmente raggiungibile. \nPer le donne single abbiamo previsto anche la condivisione delle camere per favorire la socializzazione. Per chi viene in coppia o in compagnia\, sono disponibili camere doppie e matrimoniali\, e appartamenti da 2/4/6 persone.\nTutte le tipologie di camere hanno un bagno privato.\nSe ti preoccupa la tua privacy\, GirlVillage garantisce di non postare mai le foto delle proprie ospiti.  \n\n\n\n\n\n\n\nLe attività sono aperte al pubblico in lista d’attesa con numero limitato perchè la priorità è data alle ospiti che partecipano a tutta la vacanza e in funzione alla capienza dell’hotel. La lista d’attesa sarà aperta 7 giorni prima del 31.12.2022. Per essere inserita nella lista scrivi a contatti@girlvillage.it\n\n\n\n\n\n\n\n\nResta sempre connessa ai nostri canali social per essere informata sui prossimi viaggi ed eventi!
URL:https://astronza.net/eventi/capodanno-2023-per-sole-donne-a-milano-girlvillage/
LOCATION:Torpignattara
CATEGORIES:cabaret astrologico,capodanno
ATTACH;FMTTYPE=image/jpeg:https://astronza.net/wp-content/uploads/2022/12/capodanno-2023-astronza.jpg
ORGANIZER;CN="Girl Village":MAILTO:contatti@girlvillage.it
END:VEVENT
END:VCALENDAR