BEGIN:VCALENDAR
VERSION:2.0
PRODID:-//Astronza - Lettura Tema Natale e Cabaret astrologici - ECPv6.15.20//NONSGML v1.0//EN
CALSCALE:GREGORIAN
METHOD:PUBLISH
X-ORIGINAL-URL:https://astronza.net
X-WR-CALDESC:Eventi per Astronza - Lettura Tema Natale e Cabaret astrologici
REFRESH-INTERVAL;VALUE=DURATION:PT1H
X-Robots-Tag:noindex
X-PUBLISHED-TTL:PT1H
BEGIN:VTIMEZONE
TZID:Europe/Rome
BEGIN:DAYLIGHT
TZOFFSETFROM:+0100
TZOFFSETTO:+0200
TZNAME:CEST
DTSTART:20220327T010000
END:DAYLIGHT
BEGIN:STANDARD
TZOFFSETFROM:+0200
TZOFFSETTO:+0100
TZNAME:CET
DTSTART:20221030T010000
END:STANDARD
BEGIN:DAYLIGHT
TZOFFSETFROM:+0100
TZOFFSETTO:+0200
TZNAME:CEST
DTSTART:20230326T010000
END:DAYLIGHT
BEGIN:STANDARD
TZOFFSETFROM:+0200
TZOFFSETTO:+0100
TZNAME:CET
DTSTART:20231029T010000
END:STANDARD
BEGIN:DAYLIGHT
TZOFFSETFROM:+0100
TZOFFSETTO:+0200
TZNAME:CEST
DTSTART:20240331T010000
END:DAYLIGHT
BEGIN:STANDARD
TZOFFSETFROM:+0200
TZOFFSETTO:+0100
TZNAME:CET
DTSTART:20241027T010000
END:STANDARD
BEGIN:DAYLIGHT
TZOFFSETFROM:+0100
TZOFFSETTO:+0200
TZNAME:CEST
DTSTART:20250330T010000
END:DAYLIGHT
BEGIN:STANDARD
TZOFFSETFROM:+0200
TZOFFSETTO:+0100
TZNAME:CET
DTSTART:20251026T010000
END:STANDARD
END:VTIMEZONE
BEGIN:VEVENT
DTSTART;TZID=Europe/Rome:20240906T210000
DTEND;TZID=Europe/Rome:20240906T230000
DTSTAMP:20260421T014239
CREATED:20240819T161547Z
LAST-MODIFIED:20240819T161823Z
UID:14633-1725656400-1725663600@astronza.net
SUMMARY:Cabaret astromusicale @ Bologna Ai 300 scalini
DESCRIPTION:Venerdì 6 settembre・ Inizio spettacolo ore 𝟮𝟭.𝟬𝟬\, cancelli e rifugio aperti dalle 𝟭𝟴.𝟯𝟬 Serata a offerta libera! Dalle 18.30 fino alle 23.30 il Rifugio di Collina sarà a vostra disposizione per aperitivi e bevute! \n\n\n\n Il ritorno di settembre vi angoscia oppure vi fa sentire leggeri come l’arietta di fine estate? Lasciatevi travolgere dal cabaret astro-musicale di fine estate con Astronza e Dj-Leblond \n\n\n\n“Prendi gli influssi dei pianeti\, aggiungi un pizzico di sfiga e tanta ironia\, e moltiplica il tutto su un beat in linea con i transiti del momento: ecco pronto il cabaret di Astronza accompagnato da DJ Leblond!” \n\n\n\nPer i più scettici: niente letture di oroscopi o carte astrali\, alla base di tutto c’è la risata e chissà\, qualche messaggio nascosto nella posizione dei pianeti! Risate\, comicità\, polvere di stelle e musica dal vivo\, il tutto sotto un cielo di stelle lontano dalla città! \n\n\n\n \n\n\n\nCome raggiungere lo spazio Ai 300 Scalini:A piedi: da Villa Spada prendere il sentiero CAI 914\, attraversare il parco San Pellegrino fino al belvedere\, arrivati in cima sulla sinistra rispetto a i 300 scalini\, troverete il cancello di ingresso dello spazio.Con i mezzi: linea 58 dei trasporti pubblici\, fermata di salita “Villa Spada”\, fermata di discesa “Casaglia scuole”.In caso di problemi di deambulazione contattarci a: +39 3289529444 / info.teatrodeimignoli@gmail.com
URL:https://astronza.net/eventi/cabaret-astromusicale-bologna-ai-300-scalini/
LOCATION:Ai 300 scalini\, Parco San Pellegrino\, Bologna\, 40100\, Italia
CATEGORIES:cabaret astromusicale
ATTACH;FMTTYPE=image/jpeg:https://astronza.net/wp-content/uploads/2024/08/cabaret-astrologico-musicale-300-scalini-bologna.jpg
ORGANIZER;CN="Teatro dei Mignoli - Ai 300 Scalini":MAILTO:info.teatrodeimignoli@gmail.com
END:VEVENT
BEGIN:VEVENT
DTSTART;TZID=Europe/Rome:20240803T223000
DTEND;TZID=Europe/Rome:20240804T020000
DTSTAMP:20260421T014239
CREATED:20240723T142657Z
LAST-MODIFIED:20240723T150537Z
UID:14432-1722724200-1722736800@astronza.net
SUMMARY:Cabaret Astromusicale @ MusaMadre Festival
DESCRIPTION:Il cabaret astromusicale con Dj Leblond sbarca in Sardegna\, in un posto molto speciale. \n\n\n\nRebeccu\, frazione di Bonorva\, paese disabitato\, è stato affidato al progetto culturale MusaMadre che prevede di riportare un vissuto in questi luoghi abbandonati\, preservando la natura e l’assetto culturale del luogo e del territorio. \n\n\n\n“Rebeccu\, Rebecchei da ‘e trinta domos non movei” (trad. “Che Rebeccu non superi mai le trenta abitazioni”). Così dice la leggenda e le cronache raccontano che in epoca giudicale questo piccolo borgo medievale costruito su una collina era un centro importante con circa 400 abitanti. Poi\, a partire dal 1400\, iniziò la decadenza e qualche secolo dopo\, nel 1950\, la popolazione di Rebeccu era composta da solo sei persone.
URL:https://astronza.net/eventi/cabaret-astromusicale-musamadre-festival/
LOCATION:MusaMadre Festival\, Rebeccu\, 07012\, Italia
CATEGORIES:cabaret astromusicale
ATTACH;FMTTYPE=image/jpeg:https://astronza.net/wp-content/uploads/2024/07/astronza-djLeblond.jpg
ORGANIZER;CN="MusaMadreFestival":MAILTO:musamadre.rebeccu@gmail.com
END:VEVENT
BEGIN:VEVENT
DTSTART;TZID=Europe/Rome:20240731T193000
DTEND;TZID=Europe/Rome:20240731T230000
DTSTAMP:20260421T014239
CREATED:20240723T142245Z
LAST-MODIFIED:20240723T150541Z
UID:14425-1722454200-1722466800@astronza.net
SUMMARY:Cabaret Astromusicale @ Casilino Skypark Roma
DESCRIPTION:Mercoledì 31 luglio sulla fichissima terrazza del Casilino Sky Park torna a Roma il cabaret astromusicale con Dj Leblond\, per ogni segno un pezzo ad hoc sul mood del momento.A seguire frizzante dj set\, si balla!Vi aspettiamo\, per chi non conosce ancora il posto buuu\, è imperdibile e ha anche il parcheggio a tre piani proprio sotto al tetto\, si mangia che è piacere ed è un posto adatto per figlianza al seguito.
URL:https://astronza.net/eventi/cabaret-astromusicale-casilino-skypark-roma/
LOCATION:Casilino Sky Park\, Viale della Bella Villa 94\, Roma\, Italia
CATEGORIES:cabaret astromusicale
ATTACH;FMTTYPE=image/jpeg:https://astronza.net/wp-content/uploads/2024/07/cabaret-astromusicale-casilino-skypark-roma-1024x1024-1.jpg
END:VEVENT
BEGIN:VEVENT
DTSTART;TZID=Europe/Rome:20240531T080000
DTEND;TZID=Europe/Rome:20240531T170000
DTSTAMP:20260421T014239
CREATED:20240531T125223Z
LAST-MODIFIED:20240722T172212Z
UID:13247-1717142400-1717174800@astronza.net
SUMMARY:AstroCabaret "Le rose in Festa" @ Coop Le Rose
DESCRIPTION:ore 22.00 Cabaret Astrologico con Astronza \n\n\n\ndalle 23 Dj set per poverƏ creaturƏ By Leblond
URL:https://astronza.net/eventi/astrocabaret-le-rose-in-festa-coop-le-rose/
LOCATION:Cooperativa Sociale Le Rose\, Via quintole per le rose 155\, Impruneta\, 50023\, Italia
CATEGORIES:cabaret astromusicale
ATTACH;FMTTYPE=image/jpeg:https://astronza.net/wp-content/uploads/2024/05/cabaret-impruneta-cooplerose.jpg
ORGANIZER;CN="Cooperativa Sociale Le Rose":MAILTO:info@cooperativasocialelerose.it
END:VEVENT
BEGIN:VEVENT
DTSTART;TZID=Europe/Rome:20240106T200000
DTEND;TZID=Europe/Rome:20240106T233000
DTSTAMP:20260421T014239
CREATED:20240103T130057Z
LAST-MODIFIED:20240722T172212Z
UID:12981-1704571200-1704583800@astronza.net
SUMMARY:Cabaret Astromusicale @ Angelo Mai Befane edition 24
DESCRIPTION:Non è davvero un nuovo anno senza l’oroscopo di Astronza! \n\n\n\nCi vediamo il 6 gennaio h 20:00 col cabaret astromusicale per scoprire tutto sul 2024\, segno per segno\, con le incursioni musicali di @leblond__djE Dopo si balla con il dj set delle Elettriche⚡️ @playgirls_from_caracas⚡️ @claudiadelfomento⚡️ dj Leblond \n\n\n\nPer prenotare un banco scrivi a prenotazioni@angelomai.org \n\n\n\nSiamo elettriche\,Nostra è la notte\,Nostro il 2024!
URL:https://astronza.net/eventi/cabaret-astromusicale-angelo-mai-befane-edition-24/
LOCATION:Angelo Mai\, Viale delle Terme di Caracalla\, 55\, Roma\, Italia
CATEGORIES:cabaret astromusicale
ATTACH;FMTTYPE=image/jpeg:https://astronza.net/wp-content/uploads/2024/01/angelo-mai-befane-2024.jpg
ORGANIZER;CN="Angelo Mai":MAILTO:prenotazioni@angelomai.org
END:VEVENT
BEGIN:VEVENT
DTSTART;TZID=Europe/Rome:20231229T213000
DTEND;TZID=Europe/Rome:20231229T233000
DTSTAMP:20260421T014239
CREATED:20231212T175419Z
LAST-MODIFIED:20240722T172212Z
UID:12922-1703885400-1703892600@astronza.net
SUMMARY:Cabaret Astromusicale @ InStabile Firenze
DESCRIPTION:Cabaret astromusicale Astronza e dj Leblond \n\n\n\nUn duo impareggiabile che vi accompagnerà alla scoperta dei nostri destini tra cielo e terra per il 2024. \n\n\n\nPer l’occasione Instabile si trasformerà nel miglior centro di consulenze astrologiche dell’emisfero boreale! Scopriamo insieme cosa ci dicono i pianeti in questo periodo al ritmo di un’appropriata colonna. Prima\, durante e dopo\, DJ Leblond ci guiderà in movimenti scomposti e danze propiziatorie.
URL:https://astronza.net/eventi/cabaret-astromusicale-instabile-firenze/
LOCATION:InStabile – Culture in movimento\, Via della Funga\, 27\, Firenze\, 50136\, Italia
CATEGORIES:cabaret astromusicale
ATTACH;FMTTYPE=image/jpeg:https://astronza.net/wp-content/uploads/2022/11/astronza-djLeblond.jpg
END:VEVENT
BEGIN:VEVENT
DTSTART;TZID=Europe/Rome:20231020T210000
DTEND;TZID=Europe/Rome:20231020T230000
DTSTAMP:20260421T014239
CREATED:20231017T083722Z
LAST-MODIFIED:20240722T172213Z
UID:12814-1697835600-1697842800@astronza.net
SUMMARY:Cabaret Astromusicale @ Sweet Bunch
DESCRIPTION:Gli influssi dei pianeti incontrano la musica: lo spettacolo di cabaret con le previsioni astrologiche di Astronza e il dj-set di Dj Leblond approda da Sweet Bunch. \n\n\n\nUna serata ironica e danzereccia tra le stelle\, alla scoperta di cosa ci aspetta in cielo come in terra.
URL:https://astronza.net/eventi/cabaret-astromusicale-sweet-bunch/
LOCATION:Sweet Bunch\, Via Casilina 283a\, Roma\, Italia
CATEGORIES:cabaret astromusicale
ATTACH;FMTTYPE=image/jpeg:https://astronza.net/wp-content/uploads/2023/10/cabaret-astromusicale-sweet-bunch-roma.jpg
END:VEVENT
BEGIN:VEVENT
DTSTART;TZID=Europe/Rome:20230929T213000
DTEND;TZID=Europe/Rome:20230929T220000
DTSTAMP:20260421T014239
CREATED:20230927T093900Z
LAST-MODIFIED:20240722T172213Z
UID:12759-1696023000-1696024800@astronza.net
SUMMARY:Cabaret Astro Musicale @ Ostello Bello Firenze
DESCRIPTION:Protagoniste in scena sono l’astrologia\, la musica e ovviamente tu\, che non puoi mancare. \n\n\n\nGrazie a un fortunato incontro\, arriva in Ostello Bello Firenze un nuovo spettacolo di astrologia: il cabaret astro-musicale! ✨ \n\n\n\n🎫 Venerdì 29 SettembreOre 21:30 \n\n\n\nRegistrati subito gratuitamente al link qui di seguito:
URL:https://astronza.net/eventi/cabaret-astro-musicale-ostello-bello-firenze/
LOCATION:Ostello Bello Firenze\, Via Faenza 56\, Firenze\, 50123
CATEGORIES:cabaret astromusicale
ATTACH;FMTTYPE=image/jpeg:https://astronza.net/wp-content/uploads/2023/09/cabaret-astro-musicale-ostello-bello-firenze-astronza.jpg
END:VEVENT
BEGIN:VEVENT
DTSTART;TZID=Europe/Rome:20230923T213000
DTEND;TZID=Europe/Rome:20230923T233000
DTSTAMP:20260421T014239
CREATED:20230828T093856Z
LAST-MODIFIED:20240722T172213Z
UID:12676-1695504600-1695511800@astronza.net
SUMMARY:Cabaret astromusicale @ Festival Brutti Caratteri
DESCRIPTION:BRUTTI CARATTERI editoria e culture indipendenti \n\n\n\nVerona\, 21-22-23-24 settembre 202317ª edizione / 2003-2023: vent’anni di Brutti Caratteri \n\n\n\nBrutti Caratteri 2023\, editoria e culture indipendenti – terza giornata \n\n\n\n* Sabato 23 settembre * \n\n\n\n> h. 18.00 apertura con i libri \n\n\n\n> h. 19.30 Alberto Sebastiani presenta “L’insurrezione immaginaria. Valerio Evangelisti autore\, militante e teorico della paraletteratura” (Mimesis 2023) \n\n\n\n> h. 21.30 Stand-up comedy con Astronza & DjLeblond\, cabaret astromusicale + Aristotele’s Bermuda\, un monologo di Luisa Merloni. \n\n\n\nIngresso libero con tessera \n\n\n\nÈ un’idea della Biblioteca G. Domaschi in collaborazione con La Sobilla e ASD San Nazaro. Senza sponsor né patrocini dal 2003. \n\n\n\nL’evento si svolge a Verona nel quartiere Veronetta\, vicino Porta Vescovo (posti auto non disponibili).
URL:https://astronza.net/eventi/cabaret-astromusicale-festival-brutti-caratteri/
LOCATION:Campo sportivo Gigi Piccoli\, Via Caroto\, 1\, Verona\, 37131\, Italia
CATEGORIES:cabaret astromusicale
ATTACH;FMTTYPE=image/jpeg:https://astronza.net/wp-content/uploads/2023/08/festival-editoria-brutti-caratteri-cabaret-astronza.jpg
END:VEVENT
BEGIN:VEVENT
DTSTART;TZID=Europe/Rome:20230916T190000
DTEND;TZID=Europe/Rome:20230916T230000
DTSTAMP:20260421T014239
CREATED:20230911T094318Z
LAST-MODIFIED:20240722T172213Z
UID:12725-1694890800-1694905200@astronza.net
SUMMARY:Cabaret Astromusicale e Degustazione @ Alchimie di Circe
DESCRIPTION:Cabaret Astro-musicale con \n\n\n\nASTRONZA + Dj LEBLOND \n\n\n\ne Incontro degustazione col produttore diCIRCEO GIN & Dea Circe Gin \n\n\n\nSabato 16 settembredalle 19 @ Alchimie di Circe \n\n\n\nLa queen romana dell’oroscopo torna al Circeo!Stavolta in buona compagnia dell’amica Dj LeBlond da Firenze\, per un mix di previsioni e musica elettronica..per ogni segno una canzone! \n\n\n\nDalle 19 \n\n\n\nIncontro degustazione con Gioacchino Grieco\, ideatore e produttore del Circeo Gin\, distillato con sole botaniche locali\, che insieme a noi presenta il DEA CIRCE London Dry Gin\, con il nostro Zafferano del Circeo tra le botaniche \n\n\n\nDegustazione dei gin\, del gin tonic allo zafferano e ricette dedicate Alchimie di Circe + Circeo Gin \n\n\n\nDalle 21 \n\n\n\nCabaret AstromusicaleASTRONZA + LE BLONDSegno dopo segno\, song dopo song.. \n\n\n\nA seguireFRESHNESSS djset \n\n\n\nDurante la serata:– aperitivo alchemico– gran buffet (anche vegan e gl.free)– shop SlowFood
URL:https://astronza.net/eventi/cabaret-astromusicale-e-degustazione-alchimie-di-circe/
LOCATION:Alchimie di Circe\, via Ungaretti 81\, San Felice Circeo\, 04017\, Italia
CATEGORIES:cabaret astromusicale
ATTACH;FMTTYPE=image/jpeg:https://astronza.net/wp-content/uploads/2023/09/cabaret-astromusicale-alchimie-circe.jpg
END:VEVENT
BEGIN:VEVENT
DTSTART;TZID=Europe/Rome:20230915T190000
DTEND;TZID=Europe/Rome:20230915T230000
DTSTAMP:20260421T014239
CREATED:20230830T080027Z
LAST-MODIFIED:20240722T172213Z
UID:12667-1694804400-1694818800@astronza.net
SUMMARY:Cabaret astromusicale open-air @ Angelo Mai
DESCRIPTION:Nell’importantissimo giorno in cui la Luna si fa Nuova in Vergine e Mercurio riprende il suo moto diretto\, si torna nella bellissima location dell’ Angelo Mai con un cabaret astromusicale in versione terrazza.  \n\n\n\nA seguire dj set con Dj Le blond. \n\n\n\nIn caso di pioggia l’evento si svolge al chiuso.
URL:https://astronza.net/eventi/cabaret-astromusicale-open-air-angelo-mai/
LOCATION:Angelo Mai\, Viale delle Terme di Caracalla\, 55\, Roma\, Italia
CATEGORIES:cabaret astromusicale
ATTACH;FMTTYPE=image/jpeg:https://astronza.net/wp-content/uploads/2022/11/astronza-djLeblond.jpg
END:VEVENT
BEGIN:VEVENT
DTSTART;TZID=Europe/Rome:20230630T223000
DTEND;TZID=Europe/Rome:20230701T010000
DTSTAMP:20260421T014239
CREATED:20230626T130802Z
LAST-MODIFIED:20240722T172213Z
UID:12391-1688164200-1688173200@astronza.net
SUMMARY:Algoritmica Firenze - Cabaret astromusicale
DESCRIPTION:Algoritmica: il buio oltre le stelle – 30 giugno\, 1 – 2 luglio 2023 \n\n\n\nUna tre giorni al femminile di laboratori\, incontri\, musica\, performance\, arti visive. \n\n\n\nIl programma completo è su collettivoloredana.com/algoritmica-il-buio-oltre-le-stelle/ \n\n\n\nIl cabaret astromusicale con Astronza e DJ Leblond si svolge la sera del 30 giugno alle 22:30\, ingresso libero. \n\n\n\n___ \n\n\n\nUn progetto di Collettivo Loredana per Estate Fiorentina 2023con il supporto di Associazione La Mosca \n\n\n\nAl lavoro Olivia Balestrino\, Giulia Degl’Innocenti\, Martina Migliorini\, Roberta Poggi\, Claudia Pasquini\, Camilla Pieri\, Cristina Setti\, Francesca Zannoni \n\n\n\n“Il progetto è stato cofinanziato dall’Unione Europea – Fondo Europeo di Sviluppo Regionale\, nell’ambito del Programma Operativo Città Metropolitane 2014-2020”
URL:https://astronza.net/eventi/algoritmica-firenze-cabaret-astromusicale/
LOCATION:Lumen Firenze\, Via del Guarlone\, 25\, Firenze\, 50135\, Italia
CATEGORIES:cabaret astromusicale
ATTACH;FMTTYPE=image/png:https://astronza.net/wp-content/uploads/2023/06/cabaret-firenze-algoritmica-2023.png
ORGANIZER;CN="Collettivo Loredana":MAILTO:info@collettivoloredana.it
END:VEVENT
BEGIN:VEVENT
DTSTART;TZID=Europe/Rome:20230628T193000
DTEND;TZID=Europe/Rome:20230628T233000
DTSTAMP:20260421T014239
CREATED:20230619T140644Z
LAST-MODIFIED:20240722T172213Z
UID:12378-1687980600-1687995000@astronza.net
SUMMARY:Cabaret astromusicale @ Casilino Sky Park
DESCRIPTION:Casilino Sky Park è la terrazza del cuore a Roma Est nel quartiere Alessandrino. \n\n\n\nParcheggio 600 posti gratuito \n\n\n\nUscita 18 GRA Casilina \n\n\n\n Fermata Metro C Alessandrino
URL:https://astronza.net/eventi/cabaret-astromusicale-casilino-sky-park/
LOCATION:Casilino Sky Park\, Viale della Bella Villa 94\, Roma\, Italia
CATEGORIES:cabaret astromusicale
ATTACH;FMTTYPE=image/jpeg:https://astronza.net/wp-content/uploads/2023/06/cabaret-astromusicale-casilino-skypark-28-06-23.jpg
END:VEVENT
BEGIN:VEVENT
DTSTART;TZID=Europe/Rome:20230621T193000
DTEND;TZID=Europe/Rome:20230621T233000
DTSTAMP:20260421T014239
CREATED:20230616T175302Z
LAST-MODIFIED:20240722T172213Z
UID:12367-1687375800-1687390200@astronza.net
SUMMARY:Cabaret astrologico - Mercolady// Caracol Pisa
DESCRIPTION:Mercolady// ASTRONZA& DjLeblond~IDA \n\n\n\nVenite a festeggiare con noi il Solstizio d’Estate al Mercolady. \n\n\n\nIl Solstizio d’Estate\, in antichità anche chiamato Notte delle Streghe\, si diceva fosse la notte in cui fare pronostici\, prendere erbe curative e tenere lontani gli spiriti del male. \n\n\n\nPer celebrare questa stagione porteremo on stage Astronza da Roma\, Dj Leblond da Firenze e Ida da Bologna\, tre donne splendide da ciittà differenti in una sola congiunzione astrale! \n\n\n\nDalle 21 il cabaret astrolo-musicale trasformerà il Caracol a Pisa nel miglior centro di consulenze astrologiche dell’emisfero boreale! Scopriamo insieme cosa ci dicono i pianeti in questo periodo al ritmo di un’appropriata colonna sonora. Prima\, durante e dopo\, DJ Leblond ci guiderà in movimenti scomposti e danze propiziatorie. \n\n\n\nDalle 23 aggiungete nel calderone belladonna\, techno\, danze tribali\, elettronica dai ritmi sensuali e otterrete la magia musicale di Ida a guidarci nella notte. \n\n\n\nLa cucina del Caracol è aperta dalle 19 alle 22 con menù inclusivi\, il Cabaret Astromusicale si terrà all’esterno alle 21:00\, sotto il glicine del Caracol mentre le danze dalle 23.00 nella sala interna.
URL:https://astronza.net/eventi/cabaret-astrologico-mercolady-caracol-pisa/
LOCATION:Caracol Pisa\, via carlo cattaneo 64\, Pisa\, 56122\, Italia
CATEGORIES:cabaret astromusicale
ATTACH;FMTTYPE=image/jpeg:https://astronza.net/wp-content/uploads/2023/06/cabaret-astromusicale-caracol-pisa-mercolady.jpg
ORGANIZER;CN="Carcol Pisa":MAILTO:replaypisa@gmail.com
END:VEVENT
BEGIN:VEVENT
DTSTART;TZID=Europe/Rome:20230513T213000
DTEND;TZID=Europe/Rome:20230513T233000
DTSTAMP:20260421T014239
CREATED:20230505T085507Z
LAST-MODIFIED:20240722T172213Z
UID:12192-1684013400-1684020600@astronza.net
SUMMARY:Cabaret astromusicale Astronza e dj Leblond @ InStabile Chapiteau
DESCRIPTION:Gli influssi dei pianeti si mescolano con un pizzico di sfiga\, tanta ironia e risuonano nell’aria sul beat elettronico del dj-set: ecco pronto il cabaret astro-musicale di Astronza\, accompagnato da DJ Leblond.\n \nImpatto previsto a Firenze per le ore 21:30 del 13 maggio: per l’occasione Instabile si trasformerà nel miglior centro di consulenze astrologiche dell’emisfero boreale! Scopriamo insieme cosa ci dicono i pianeti in questo periodo al ritmo di un’appropriata colonna.\n \nPrima\, durante e dopo\, DJ Leblond ci guiderà in movimenti scomposti e danze propiziatorie.\n \n \nSpazio Chapiteau; Ingresso a offerta libera consigliata minimo 5€\n \n***\n \nCirco contemporaneo\, teatro\, musicaformazione\, laboratori\, seminaria cura di InStabile Culture in Movimento & Cirk Fantastik!\n \n***\n \nInfo e Prenotazioniinstabileteatrocirco@gmail.com3669772005\nPrenotazione Bistrot: 3338902161\n 
URL:https://astronza.net/eventi/cabaret-astromusicale-astronza-dj-leblond-instabile-chapiteau/
LOCATION:InStabile – Culture in movimento\, Via della Funga\, 27\, Firenze\, 50136\, Italia
CATEGORIES:cabaret astromusicale
ATTACH;FMTTYPE=image/jpeg:https://astronza.net/wp-content/uploads/2023/05/instabile.jpg
END:VEVENT
BEGIN:VEVENT
DTSTART;TZID=Europe/Rome:20230319T143000
DTEND;TZID=Europe/Rome:20230319T210000
DTSTAMP:20260421T014239
CREATED:20230216T184213Z
LAST-MODIFIED:20240722T172213Z
UID:11940-1679236200-1679259600@astronza.net
SUMMARY:Cabaret astromusicale con DJ Leblond @ Enotica 2023
DESCRIPTION:Prendi gli influssi dei pianeti\, aggiungi un pizzico di sfiga e tanta ironia\, e moltiplica il tutto su un beat elettronico: ecco pronto il cabaret astrologico di Astronza\, accompagnato da DJ Leblond.\nPer la prima volta lo spettacolo di cabaret astromusicale a Roma durante Enotica 2023\nDOMENICA 19 MARZO dalle ore 14:30. \nENOTICA 2023\nXI edizione del Festival del Vino\, del Cibo e della Sensualità.\nOdori\, sapori ed effusioni da un altro mondo possibile!\nper info e dettagli sul festival https://www.facebook.com/events/767229614999269
URL:https://astronza.net/eventi/cabaret-astromusicale-con-dj-leblond-enotica-2023/
LOCATION:CSOA Forte Prenestino\, Via Federico Delpino\, Roma\, 00177\, Italia
CATEGORIES:cabaret astromusicale
ATTACH;FMTTYPE=image/jpeg:https://astronza.net/wp-content/uploads/2023/02/enotica-2023.jpg
END:VEVENT
END:VCALENDAR